BEGIN:VCALENDAR
VERSION:2.0
PRODID:-//Mitchell's Place - ECPv6.15.16//NONSGML v1.0//EN
CALSCALE:GREGORIAN
METHOD:PUBLISH
X-WR-CALNAME:Mitchell's Place
X-ORIGINAL-URL:https://mitchells-place.com
X-WR-CALDESC:Events for Mitchell's Place
REFRESH-INTERVAL;VALUE=DURATION:PT1H
X-Robots-Tag:noindex
X-PUBLISHED-TTL:PT1H
BEGIN:VTIMEZONE
TZID:America/Chicago
BEGIN:DAYLIGHT
TZOFFSETFROM:-0600
TZOFFSETTO:-0500
TZNAME:CDT
DTSTART:20190310T080000
END:DAYLIGHT
BEGIN:STANDARD
TZOFFSETFROM:-0500
TZOFFSETTO:-0600
TZNAME:CST
DTSTART:20191103T070000
END:STANDARD
BEGIN:DAYLIGHT
TZOFFSETFROM:-0600
TZOFFSETTO:-0500
TZNAME:CDT
DTSTART:20200308T080000
END:DAYLIGHT
BEGIN:STANDARD
TZOFFSETFROM:-0500
TZOFFSETTO:-0600
TZNAME:CST
DTSTART:20201101T070000
END:STANDARD
BEGIN:DAYLIGHT
TZOFFSETFROM:-0600
TZOFFSETTO:-0500
TZNAME:CDT
DTSTART:20210314T080000
END:DAYLIGHT
BEGIN:STANDARD
TZOFFSETFROM:-0500
TZOFFSETTO:-0600
TZNAME:CST
DTSTART:20211107T070000
END:STANDARD
END:VTIMEZONE
BEGIN:VEVENT
DTSTART;TZID=America/Chicago:20200822T020000
DTEND;TZID=America/Chicago:20200822T020000
DTSTAMP:20260419T083650
CREATED:20190924T012303Z
LAST-MODIFIED:20200708T200327Z
UID:16837-1598061600-1598061600@mitchells-place.com
SUMMARY:2020 Mitchell's Place Dragon Boat Race & Festival
DESCRIPTION:*** Update: Due to the continued rise of COVID cases in our state\, we are CANCELING the Dragon Boat Race. Although\, we are sad and disappointed we that next year we will be stronger and better. Thank you to everyone who has supported this event so far\, we look forward to seeing you in August 2021! \nPlease join us for Birmingham’s second annual Dragon Boat Race & Festival at East Lake Park on Saturday\, August 22\, 2020. This family friendly event is free to the community.
URL:https://mitchells-place.com/event/mitchells-place-dragon-boat-race-festival/
LOCATION:East Lake Park\, 8101 4th Ave N\, Birmingham\, AL\, 35206
END:VEVENT
END:VCALENDAR