BEGIN:VCALENDAR
VERSION:2.0
PRODID:-//Mitchell's Place - ECPv6.15.16//NONSGML v1.0//EN
CALSCALE:GREGORIAN
METHOD:PUBLISH
X-WR-CALNAME:Mitchell's Place
X-ORIGINAL-URL:https://mitchells-place.com
X-WR-CALDESC:Events for Mitchell's Place
REFRESH-INTERVAL;VALUE=DURATION:PT1H
X-Robots-Tag:noindex
X-PUBLISHED-TTL:PT1H
BEGIN:VTIMEZONE
TZID:America/Chicago
BEGIN:DAYLIGHT
TZOFFSETFROM:-0600
TZOFFSETTO:-0500
TZNAME:CDT
DTSTART:20190310T080000
END:DAYLIGHT
BEGIN:STANDARD
TZOFFSETFROM:-0500
TZOFFSETTO:-0600
TZNAME:CST
DTSTART:20191103T070000
END:STANDARD
BEGIN:DAYLIGHT
TZOFFSETFROM:-0600
TZOFFSETTO:-0500
TZNAME:CDT
DTSTART:20200308T080000
END:DAYLIGHT
BEGIN:STANDARD
TZOFFSETFROM:-0500
TZOFFSETTO:-0600
TZNAME:CST
DTSTART:20201101T070000
END:STANDARD
BEGIN:DAYLIGHT
TZOFFSETFROM:-0600
TZOFFSETTO:-0500
TZNAME:CDT
DTSTART:20210314T080000
END:DAYLIGHT
BEGIN:STANDARD
TZOFFSETFROM:-0500
TZOFFSETTO:-0600
TZNAME:CST
DTSTART:20211107T070000
END:STANDARD
END:VTIMEZONE
BEGIN:VEVENT
DTSTART;TZID=America/Chicago:20200404T063000
DTEND;TZID=America/Chicago:20200404T113000
DTSTAMP:20260419T150629
CREATED:20190924T011936Z
LAST-MODIFIED:20200309T215050Z
UID:16834-1585981800-1585999800@mitchells-place.com
SUMMARY:Funky Fish Fry
DESCRIPTION:FFF Flyer 2020 \nPlease join us for the 11th Annual Funky Fish Fry on Saturday\, April 4th at Avondale Brewing Co to support Mitchell’s Place and the Autism Society of Alabama. There will be delicious catfish with all the fixings from Ezell’s Catfish\, live music\, and a kids zone. We hope to see you all there for a funky good time for the whole family! \nTickets are 2 for $40 or 1 for $25. Your ticket includes entry\, a plate of food and a brew from Avondale. \nGeneral entry tickets are $10. \nChildren 12 and under are FREE.
URL:https://mitchells-place.com/event/funky-fish-fry/
LOCATION:Avondale Brewing Company\, 201 41 St. S\, Birmingham\, AL\, 35222\, United States
END:VEVENT
END:VCALENDAR